BEGIN:VCALENDAR
VERSION:2.0
PRODID:-//人间社区 - ECPv6.15.20//NONSGML v1.0//EN
CALSCALE:GREGORIAN
METHOD:PUBLISH
X-WR-CALNAME:人间社区
X-ORIGINAL-URL:https://people.fukan.my
X-WR-CALDESC:Events for 人间社区
REFRESH-INTERVAL;VALUE=DURATION:PT1H
X-Robots-Tag:noindex
X-PUBLISHED-TTL:PT1H
BEGIN:VTIMEZONE
TZID:Asia/Shanghai
BEGIN:STANDARD
TZOFFSETFROM:+0800
TZOFFSETTO:+0800
TZNAME:CST
DTSTART:20240101T000000
END:STANDARD
END:VTIMEZONE
BEGIN:VEVENT
DTSTART;TZID=Asia/Shanghai:20250420T110000
DTEND;TZID=Asia/Shanghai:20250420T123000
DTSTAMP:20260419T205436
CREATED:20250314T062539Z
LAST-MODIFIED:20250420T031423Z
UID:10000352-1745146800-1745152200@people.fukan.my
SUMMARY:《小小厨师 大大梦想》- Thrice Studio 叁遷
DESCRIPTION:“我要自己打蛋🥚！”\n“我要自己切！”\n“我要自己煮🍳！”\n“我要自己洗菜🥬🥒🍆！” \n💕 厨房藏着家的温度，\n也藏着孩子天马行空的想象力！ \n小朋友对厨房总是充满好奇，\n这次，就让他们化身 小小厨师 吧！😍 \n在玩乐中认识食材、尝试动手制作，\n看看他们如何用现有的材料和工具，\n创造出独一无二的 “专属料理” ✨\n满满的成就感，绝对玩得 满足又开心！😍 \nMessy Play 不只是玩，更是感官的盛宴！\n促进触觉、嗅觉、视觉、听觉、味觉的发展，\n让孩子在探索中 成长、学习、享受乐趣 💕 \n📌 适合 18 个月以上的宝宝参与哦！（18个月-6岁） \n📍 空间有限，本次活动只招收15位小朋友哦‼️🥹\n赶快找我们报名‼️\n锁定您的亲子欢乐时光！ \nhttps://docs.google.com/…/1MDv4xErZePW-LuUg5R…/edit… \n📅日期 ：20 . 04 . 2025 (星期日)\n⌚时间 ：11:00 AM – 12:15 PM\n📍地点 ：Thrice Studio 叁遷 \nBandar Mahkota Cheras\n👫适合 ：18个月以上的孩子\n💰费用 ：Rm70/小孩
URL:https://people.fukan.my/event/thrice-20250420/
LOCATION:Thrice Studio 叁遷\, Jalan Mahkota Residence 1\, Bandar Mahkota Cheras\, Cheras\, Selangor\, Malaysia
CATEGORIES:Workshop
ATTACH;FMTTYPE=image/jpeg:https://people.fukan.my/wp-content/uploads/2025/03/Messy-Play.jpg
END:VEVENT
END:VCALENDAR